BEGIN:VCALENDAR
VERSION:2.0
PRODID:-//Maia Waern - ECPv5.1.6//NONSGML v1.0//EN
CALSCALE:GREGORIAN
METHOD:PUBLISH
X-WR-CALNAME:Maia Waern
X-ORIGINAL-URL:https://www.maiawaern.com
X-WR-CALDESC:Events for Maia Waern
BEGIN:VTIMEZONE
TZID:America/Toronto
BEGIN:DAYLIGHT
TZOFFSETFROM:-0500
TZOFFSETTO:-0400
TZNAME:EDT
DTSTART:20160313T070000
END:DAYLIGHT
BEGIN:STANDARD
TZOFFSETFROM:-0400
TZOFFSETTO:-0500
TZNAME:EST
DTSTART:20161106T060000
END:STANDARD
END:VTIMEZONE
BEGIN:VEVENT
DTSTART;TZID=America/Toronto:20161105T190000
DTEND;TZID=America/Toronto:20161105T230000
DTSTAMP:20260421T043546
CREATED:20160925T181815Z
LAST-MODIFIED:20161009T153123Z
UID:1821-1478372400-1478386800@www.maiawaern.com
SUMMARY:House Concert with Jay Linden and Maia Waern
DESCRIPTION:This concert is the continuation of a country gathering this summer\, when Jay and I enjoyed an evening of swapping songs and stories. Our audience of friends and family had as much fun as we did\, so Jay and I have decided to do it again – but in Toronto this time… \n  \nThe concert venue address is available by request only because it is located in a private home. This allows us to avoid the bar scene gracefully\, to screen out the bad apples\, and to perform acoustically on soft chairs by the light of old lamps. \n  \nJay and I will be playing songs from our older CDs\, which will be available for $15. \n  \nWe will also be playing new (and old) songs that are studio-bound for our upcoming albums. \n  \nAnd\, here and there\, along the way\, we will indulge in a few cover songs. \n  \nJay and I are truly two apples from the same tree\, but not necessarily from the same branch! “Folk” doesn’t sum up our musical styles\, but it does describe an aspect that we share. \n  \nJay will be bringing his most faithful guitar\, his second-loudest kazoo (and the other one too)\, and other intriguing instruments with eccentric numbers of strings. \n  \nMaia will be bringing her new\, studio-ready Ohana concert ukulele\, her trusty old Alhambra classical guitar\, and her professionally-tuned gourd thumb piano. \n  \nHomemade snacks will be available\, and also welcome.  And BYOB\, if you like. \n  \nEmail for questions\, to RSVP\, and for location: maia@maiawaern.com  \n  \nThe best way to connect with Jay Linden online is on Facebook: www.facebook.com/Jay-Linden-20217774096 
URL:https://www.maiawaern.com/event/house-concert-with-jay-linden-and-maia-waern-2/
LOCATION:Private Home\, Toronto\, Ontario\, Canada
ATTACH;FMTTYPE=image/jpeg:https://www.maiawaern.com/wp-content/uploads/2016/09/Jay-and-Maia-Nov-5-20161.jpg
END:VEVENT
END:VCALENDAR